BEGIN:VCALENDAR
PRODID:-//SINGPromos.com//NONSGML v1.0//EN
VERSION:2.0
CALSCALE:GREGORIAN
METHOD:PUBLISH
X-WR-CALNAME:SINGPromos.com
X-ORIGINAL-URL:https://singpromos.com
X-WR-CALDESC:Events for SINGPromos.com
BEGIN:VEVENT
DTSTART:20140904T000000
DTEND:20140920T235900
DTSTAMP:20260420T040700
CREATED:20140904T170228
LAST-MODIFIED:20140904T170228
UID:111432@https://singpromos.com
SUMMARY:Malaysia Airlines From $75 KL & Kuching Promo Air Fares 4 - 20 Sep 2014
DESCRIPTION:Fly from Singapore to Malaysia via Malaysia Airlines latest promotion air fares from just $75. For more information, visit [ https://singpromos.com/airlines-flights/malaysia-airlines-from-75-kl-kuching-promo-air-fares-4-20-sep-2014-111432/ ]. 
LOCATION:
URL:https://singpromos.com/airlines-flights/malaysia-airlines-from-75-kl-kuching-promo-air-fares-4-20-sep-2014-111432/
END:VEVENT
END:VCALENDAR