BEGIN:VCALENDAR
PRODID:-//SINGPromos.com//NONSGML v1.0//EN
VERSION:2.0
CALSCALE:GREGORIAN
METHOD:PUBLISH
X-WR-CALNAME:SINGPromos.com
X-ORIGINAL-URL:https://singpromos.com
X-WR-CALDESC:Events for SINGPromos.com
BEGIN:VEVENT
DTSTART:20140905T000000
DTEND:20140914T235900
DTSTAMP:20260420T052634
CREATED:20140905T202338
LAST-MODIFIED:20140905T202338
UID:111587@https://singpromos.com
SUMMARY:Cristofori Piano Fair 5 - 14 Sep 2014
DESCRIPTION:More than 200 pianos. For more information, visit [ https://singpromos.com/music/cristofori-piano-fair-5-14-sep-2014-111587/ ]. 
LOCATION:489980
URL:https://singpromos.com/music/cristofori-piano-fair-5-14-sep-2014-111587/
END:VEVENT
END:VCALENDAR