BEGIN:VCALENDAR
PRODID:-//SINGPromos.com//NONSGML v1.0//EN
VERSION:2.0
CALSCALE:GREGORIAN
METHOD:PUBLISH
X-WR-CALNAME:SINGPromos.com
X-ORIGINAL-URL:https://singpromos.com
X-WR-CALDESC:Events for SINGPromos.com
BEGIN:VEVENT
DTSTART:20140905T000000
DTEND:20141031T235900
DTSTAMP:20260420T191243
CREATED:20140908T124936
LAST-MODIFIED:20140908T124936
UID:112014@https://singpromos.com
SUMMARY:Dunkin Donuts 1-for-1 Coffee Coolatta @ Harbourfront Centre 5 Sep - 31 Oct 2014
DESCRIPTION:1 for 1 Coffee Coolatta BOGO promotion at Harbourfront Centre.. For more information, visit [ https://singpromos.com/dining-restaurants-food/dunkin-donuts-1-for-1-coffee-coolatta-harbourfront-centre-5-sep-31-oct-2014-112014/ ]. 
LOCATION:099253
URL:https://singpromos.com/dining-restaurants-food/dunkin-donuts-1-for-1-coffee-coolatta-harbourfront-centre-5-sep-31-oct-2014-112014/
END:VEVENT
END:VCALENDAR