BEGIN:VCALENDAR
PRODID:-//SINGPromos.com//NONSGML v1.0//EN
VERSION:2.0
CALSCALE:GREGORIAN
METHOD:PUBLISH
X-WR-CALNAME:SINGPromos.com
X-ORIGINAL-URL:https://singpromos.com
X-WR-CALDESC:Events for SINGPromos.com
BEGIN:VEVENT
DTSTART:20140911T000000
DTEND:20140912T235900
DTSTAMP:20260422T082109
CREATED:20140910T221529
LAST-MODIFIED:20140910T221804
UID:112254@https://singpromos.com
SUMMARY:Brandsfever Handbags & Footwear Sale @ Mandarin Orchard 11 - 12 Sep 2014
DESCRIPTION:Brands include Celine, Gucci, Givenchy, Miu Miu, Louis Vuitton and more. For more information, visit [ https://singpromos.com/happenings/brandsfever-handbags-footwear-sale-mandarin-orchard-11-12-sep-2014-112254/ ]. 
LOCATION:238867
URL:https://singpromos.com/happenings/brandsfever-handbags-footwear-sale-mandarin-orchard-11-12-sep-2014-112254/
END:VEVENT
END:VCALENDAR