BEGIN:VCALENDAR
PRODID:-//SINGPromos.com//NONSGML v1.0//EN
VERSION:2.0
CALSCALE:GREGORIAN
METHOD:PUBLISH
X-WR-CALNAME:SINGPromos.com
X-ORIGINAL-URL:https://singpromos.com
X-WR-CALDESC:Events for SINGPromos.com
BEGIN:VEVENT
DTSTART:20140915T000000
DTEND:20141013T235900
DTSTAMP:20260422T080643
CREATED:20140911T164405
LAST-MODIFIED:20140911T164405
UID:112314@https://singpromos.com
SUMMARY:Triumph Buy 3 Get 1 FREE @ Tampines 1 15 Sep - 13 Oct 2014
DESCRIPTION:Buy 3 Get 1 Free promotion on Mondays at Tampines One from 15 Sep to 13 Oct 2014.. For more information, visit [ https://singpromos.com/fashion-accessories/triumph-buy-3-get-1-free-tampines-1-15-sep-13-oct-2014-112314/ ]. 
LOCATION:529536
URL:https://singpromos.com/fashion-accessories/triumph-buy-3-get-1-free-tampines-1-15-sep-13-oct-2014-112314/
END:VEVENT
END:VCALENDAR