BEGIN:VCALENDAR
PRODID:-//SINGPromos.com//NONSGML v1.0//EN
VERSION:2.0
CALSCALE:GREGORIAN
METHOD:PUBLISH
X-WR-CALNAME:SINGPromos.com
X-ORIGINAL-URL:https://singpromos.com
X-WR-CALDESC:Events for SINGPromos.com
BEGIN:VEVENT
DTSTART:20140912T000000
DTEND:20140914T235900
DTSTAMP:20260420T013753
CREATED:20140913T003256
LAST-MODIFIED:20140913T003332
UID:112476@https://singpromos.com
SUMMARY:Reebok $10 Off Skyscape Models Coupon 12 Sep 2014
DESCRIPTION:Flash the image below to enjoy $10 off all Reebok Skyscape models. For more information, visit [ https://singpromos.com/footwear/reebok-10-off-skyscape-models-coupon-12-sep-2014-112476/ ]. 
LOCATION:
URL:https://singpromos.com/footwear/reebok-10-off-skyscape-models-coupon-12-sep-2014-112476/
END:VEVENT
END:VCALENDAR