BEGIN:VCALENDAR
PRODID:-//SINGPromos.com//NONSGML v1.0//EN
VERSION:2.0
CALSCALE:GREGORIAN
METHOD:PUBLISH
X-WR-CALNAME:SINGPromos.com
X-ORIGINAL-URL:https://singpromos.com
X-WR-CALDESC:Events for SINGPromos.com
BEGIN:VEVENT
DTSTART:20140913T000000
DTEND:20140913T235900
DTSTAMP:20260422T080250
CREATED:20140913T015445
LAST-MODIFIED:20140913T122143
UID:112628@https://singpromos.com
SUMMARY:Robinsons, John Little, M&S & More 18% OFF $100 Cash Vouchers 13 Sep 2014
DESCRIPTION:Get ten $10 Robinsons valid for use at all Robinsons, John Little, Marks & Spencer, Costa Coffee (Singapore) stores, stores residing in Robinsons The Heeren with this deal: $82 for $100 Worth of Robinsons Cash Vouchers. For more information, visit [ https://singpromos.com/department-stores/robinsons-john-little-ms-more-18-off-100-cash-vouchers-13-sep-2014-112628/ ]. 
LOCATION:
URL:https://singpromos.com/department-stores/robinsons-john-little-ms-more-18-off-100-cash-vouchers-13-sep-2014-112628/
END:VEVENT
END:VCALENDAR