BEGIN:VCALENDAR
PRODID:-//SINGPromos.com//NONSGML v1.0//EN
VERSION:2.0
CALSCALE:GREGORIAN
METHOD:PUBLISH
X-WR-CALNAME:SINGPromos.com
X-ORIGINAL-URL:https://singpromos.com
X-WR-CALDESC:Events for SINGPromos.com
BEGIN:VEVENT
DTSTART:20140913T000000
DTEND:20140915T235900
DTSTAMP:20260420T203414
CREATED:20140913T203127
LAST-MODIFIED:20140913T203159
UID:112728@https://singpromos.com
SUMMARY:Courts 3 Days Big Sale Offers 13 - 15 Sep 2014
DESCRIPTION:Biggest discounts, Biggest freebies, Biggest marked-downs. Enjoy big discounts of up to 80% off. For more information, visit [ https://singpromos.com/department-stores/courts-3-days-big-sale-offers-13-15-sep-2014-112728/ ]. 
LOCATION:
URL:https://singpromos.com/department-stores/courts-3-days-big-sale-offers-13-15-sep-2014-112728/
END:VEVENT
END:VCALENDAR