BEGIN:VCALENDAR
PRODID:-//SINGPromos.com//NONSGML v1.0//EN
VERSION:2.0
CALSCALE:GREGORIAN
METHOD:PUBLISH
X-WR-CALNAME:SINGPromos.com
X-ORIGINAL-URL:https://singpromos.com
X-WR-CALDESC:Events for SINGPromos.com
BEGIN:VEVENT
DTSTART:20140915T000000
DTEND:20140921T235900
DTSTAMP:20260422T082151
CREATED:20140915T215959
LAST-MODIFIED:20140915T220151
UID:112905@https://singpromos.com
SUMMARY:FitFlop SALE @ Isetan Katong 15 - 21 Sep 2014
DESCRIPTION:Enjoy selected styles at up to 40% OFF. For more information, visit [ https://singpromos.com/happenings/fitflop-sale-isetan-katong-15-21-sep-2014-112905/ ]. 
LOCATION:449269
URL:https://singpromos.com/happenings/fitflop-sale-isetan-katong-15-21-sep-2014-112905/
END:VEVENT
END:VCALENDAR