BEGIN:VCALENDAR
PRODID:-//SINGPromos.com//NONSGML v1.0//EN
VERSION:2.0
CALSCALE:GREGORIAN
METHOD:PUBLISH
X-WR-CALNAME:SINGPromos.com
X-ORIGINAL-URL:https://singpromos.com
X-WR-CALDESC:Events for SINGPromos.com
BEGIN:VEVENT
DTSTART:20140918T000000
DTEND:20140928T235900
DTSTAMP:20260422T080607
CREATED:20140918T192910
LAST-MODIFIED:20140925T111328
UID:113260@https://singpromos.com
SUMMARY:Robinsons 7% GST Absorbed Promotion 18 Sep 2014
DESCRIPTION:You will want to do a few more laps at Robinsons stores this weekend. For more information, visit [ https://singpromos.com/department-stores/robinsons-7-gst-absorbed-promotion-18-sep-2014-113260/ ]. 
LOCATION:
URL:https://singpromos.com/department-stores/robinsons-7-gst-absorbed-promotion-18-sep-2014-113260/
END:VEVENT
END:VCALENDAR