BEGIN:VCALENDAR
PRODID:-//SINGPromos.com//NONSGML v1.0//EN
VERSION:2.0
CALSCALE:GREGORIAN
METHOD:PUBLISH
X-WR-CALNAME:SINGPromos.com
X-ORIGINAL-URL:https://singpromos.com
X-WR-CALDESC:Events for SINGPromos.com
BEGIN:VEVENT
DTSTART:20140923T000000
DTEND:20140928T235900
DTSTAMP:20260420T200229
CREATED:20140923T191942
LAST-MODIFIED:20140923T191942
UID:113953@https://singpromos.com
SUMMARY:D&C Shoes SALE 23 Sep 2014
DESCRIPTION:FREE $5 voucher with every purchase.. For more information, visit [ https://singpromos.com/footwear/dc-shoes-sale-23-sep-2014-113953/ ]. 
LOCATION:
URL:https://singpromos.com/footwear/dc-shoes-sale-23-sep-2014-113953/
END:VEVENT
END:VCALENDAR