BEGIN:VCALENDAR
PRODID:-//SINGPromos.com//NONSGML v1.0//EN
VERSION:2.0
CALSCALE:GREGORIAN
METHOD:PUBLISH
X-WR-CALNAME:SINGPromos.com
X-ORIGINAL-URL:https://singpromos.com
X-WR-CALDESC:Events for SINGPromos.com
BEGIN:VEVENT
DTSTART:20140926T000000
DTEND:20141002T235900
DTSTAMP:20260422T082320
CREATED:20140923T230543
LAST-MODIFIED:20140923T230543
UID:113962@https://singpromos.com
SUMMARY:Calvin Klein Promotion @ Isetan Scotts 26 Sep - 2 Oct 2014
DESCRIPTION:Enjoy up to 70% off Men's & Ladies' Apparel & Accessories. For more information, visit [ https://singpromos.com/fashion-accessories/calvin-klein-promotion-isetan-scotts-26-sep-2-oct-2014-113962/ ]. 
LOCATION:
URL:https://singpromos.com/fashion-accessories/calvin-klein-promotion-isetan-scotts-26-sep-2-oct-2014-113962/
END:VEVENT
END:VCALENDAR