BEGIN:VCALENDAR
PRODID:-//SINGPromos.com//NONSGML v1.0//EN
VERSION:2.0
CALSCALE:GREGORIAN
METHOD:PUBLISH
X-WR-CALNAME:SINGPromos.com
X-ORIGINAL-URL:https://singpromos.com
X-WR-CALDESC:Events for SINGPromos.com
BEGIN:VEVENT
DTSTART:20141003T000000
DTEND:20141009T235900
DTSTAMP:20260422T081725
CREATED:20140923T231032
LAST-MODIFIED:20140923T231032
UID:113971@https://singpromos.com
SUMMARY:Isetan Pumpkin Patch & Fox Kids & Baby Promotion @ Isetan Scotts 3 - 9 Oct 2014
DESCRIPTION:Enjoy up to 70% off on Children's Apparel.. For more information, visit [ https://singpromos.com/fashion-accessories/isetan-pumpkin-patch-fox-kids-baby-promotion-isetan-scotts-3-9-oct-2014-113971/ ]. 
LOCATION:238868
URL:https://singpromos.com/fashion-accessories/isetan-pumpkin-patch-fox-kids-baby-promotion-isetan-scotts-3-9-oct-2014-113971/
END:VEVENT
END:VCALENDAR