BEGIN:VCALENDAR
PRODID:-//SINGPromos.com//NONSGML v1.0//EN
VERSION:2.0
CALSCALE:GREGORIAN
METHOD:PUBLISH
X-WR-CALNAME:SINGPromos.com
X-ORIGINAL-URL:https://singpromos.com
X-WR-CALDESC:Events for SINGPromos.com
BEGIN:VEVENT
DTSTART:20140926T000000
DTEND:20140930T235900
DTSTAMP:20260422T082146
CREATED:20140926T181527
LAST-MODIFIED:20140926T181554
UID:114391@https://singpromos.com
SUMMARY:Dockers Buy 1 Get 1 Free Promo 26 - 30 Sep 2014
DESCRIPTION:Dockers is having a September special - Buy 1 get 1 FREE on all regular-priced shirts and pants. For more information, visit [ https://singpromos.com/fashion-accessories/dockers-buy-1-get-1-free-promo-26-30-sep-2014-114391/ ]. 
LOCATION:
URL:https://singpromos.com/fashion-accessories/dockers-buy-1-get-1-free-promo-26-30-sep-2014-114391/
END:VEVENT
END:VCALENDAR