BEGIN:VCALENDAR
PRODID:-//SINGPromos.com//NONSGML v1.0//EN
VERSION:2.0
CALSCALE:GREGORIAN
METHOD:PUBLISH
X-WR-CALNAME:SINGPromos.com
X-ORIGINAL-URL:https://singpromos.com
X-WR-CALDESC:Events for SINGPromos.com
BEGIN:VEVENT
DTSTART:20140926T000000
DTEND:20141009T235900
DTSTAMP:20260424T034622
CREATED:20140926T232721
LAST-MODIFIED:20140926T232721
UID:114476@https://singpromos.com
SUMMARY:Giant Hypermarket Bicycles Cycling Fair Offers 26 Sep - 9 Oct 2014
DESCRIPTION:Get a free Alloy Water Bottle (500ml) worth $12 with minimum spend of $120 on a single Aleoca bicycle.. For more information, visit [ https://singpromos.com/household/giant-hypermarket-bicycles-cycling-fair-offers-26-sep-9-oct-2014-114476/ ]. 
LOCATION:
URL:https://singpromos.com/household/giant-hypermarket-bicycles-cycling-fair-offers-26-sep-9-oct-2014-114476/
END:VEVENT
END:VCALENDAR