BEGIN:VCALENDAR
PRODID:-//SINGPromos.com//NONSGML v1.0//EN
VERSION:2.0
CALSCALE:GREGORIAN
METHOD:PUBLISH
X-WR-CALNAME:SINGPromos.com
X-ORIGINAL-URL:https://singpromos.com
X-WR-CALDESC:Events for SINGPromos.com
BEGIN:VEVENT
DTSTART:20140927T000000
DTEND:20140929T235900
DTSTAMP:20260420T231244
CREATED:20140927T165949
LAST-MODIFIED:20140927T165949
UID:114575@https://singpromos.com
SUMMARY:Courts Massive Clearance Offers 27 - 29 Sep 2014
DESCRIPTION:Courts is having a Most Massive Ever Clearance with $61 million worth of stocks to clear. For more information, visit [ https://singpromos.com/department-stores/courts-massive-clearance-offers-27-29-sep-2014-114575/ ]. 
LOCATION:
URL:https://singpromos.com/department-stores/courts-massive-clearance-offers-27-29-sep-2014-114575/
END:VEVENT
END:VCALENDAR