BEGIN:VCALENDAR
PRODID:-//SINGPromos.com//NONSGML v1.0//EN
VERSION:2.0
CALSCALE:GREGORIAN
METHOD:PUBLISH
X-WR-CALNAME:SINGPromos.com
X-ORIGINAL-URL:https://singpromos.com
X-WR-CALDESC:Events for SINGPromos.com
BEGIN:VEVENT
DTSTART:20141003T000000
DTEND:20141009T235900
DTSTAMP:20260422T082322
CREATED:20141003T223849
LAST-MODIFIED:20141003T223849
UID:115520@https://singpromos.com
SUMMARY:Elizabeth Arden Promotion @ Robinsons 3 - 9 Oct 2014
DESCRIPTION:Receive a complimentary 7-piece gift bag with any $200 purchase. For more information, visit [ https://singpromos.com/happenings/elizabeth-arden-promotion-robinsons-3-9-oct-2014-115520/ ]. 
LOCATION:179103
URL:https://singpromos.com/happenings/elizabeth-arden-promotion-robinsons-3-9-oct-2014-115520/
END:VEVENT
END:VCALENDAR