BEGIN:VCALENDAR
PRODID:-//SINGPromos.com//NONSGML v1.0//EN
VERSION:2.0
CALSCALE:GREGORIAN
METHOD:PUBLISH
X-WR-CALNAME:SINGPromos.com
X-ORIGINAL-URL:https://singpromos.com
X-WR-CALDESC:Events for SINGPromos.com
BEGIN:VEVENT
DTSTART:20141003T000000
DTEND:20141014T235900
DTSTAMP:20260424T034604
CREATED:20141004T000147
LAST-MODIFIED:20141004T000147
UID:115573@https://singpromos.com
SUMMARY:Giant Hypermarket Up To 70% OFF Offers 3 - 14 Oct 2014
DESCRIPTION:Giant Hypermarket is having a Red dot sale Clearance featuring discounts of up to 70% off. For more information, visit [ https://singpromos.com/department-stores/giant-hypermarket-up-to-70-off-offers-3-14-oct-2014-115573/ ]. 
LOCATION:
URL:https://singpromos.com/department-stores/giant-hypermarket-up-to-70-off-offers-3-14-oct-2014-115573/
END:VEVENT
END:VCALENDAR