BEGIN:VCALENDAR
PRODID:-//SINGPromos.com//NONSGML v1.0//EN
VERSION:2.0
CALSCALE:GREGORIAN
METHOD:PUBLISH
X-WR-CALNAME:SINGPromos.com
X-ORIGINAL-URL:https://singpromos.com
X-WR-CALDESC:Events for SINGPromos.com
BEGIN:VEVENT
DTSTART:20141008T000000
DTEND:20141012T235900
DTSTAMP:20260420T050907
CREATED:20141008T141537
LAST-MODIFIED:20141008T141717
UID:116155@https://singpromos.com
SUMMARY:World of Sports 20% OFF Storewide Promo 8 Oct 2014
DESCRIPTION:Available at World of Sports, World of Outdoors, Mizuno, Columbia, Salomon and Eastpak stores. For more information, visit [ https://singpromos.com/sports/world-of-sports-20-off-storewide-promo-8-oct-2014-116155/ ]. 
LOCATION:
URL:https://singpromos.com/sports/world-of-sports-20-off-storewide-promo-8-oct-2014-116155/
END:VEVENT
END:VCALENDAR