BEGIN:VCALENDAR
PRODID:-//SINGPromos.com//NONSGML v1.0//EN
VERSION:2.0
CALSCALE:GREGORIAN
METHOD:PUBLISH
X-WR-CALNAME:SINGPromos.com
X-ORIGINAL-URL:https://singpromos.com
X-WR-CALDESC:Events for SINGPromos.com
BEGIN:VEVENT
DTSTART:20141027T000000
DTEND:20141102T235900
DTSTAMP:20260422T080434
CREATED:20141008T190639
LAST-MODIFIED:20141008T190639
UID:116273@https://singpromos.com
SUMMARY:Triumph Promotion @ Isetan Katong 27 Oct - 2 Nov 2014
DESCRIPTION:Enjoy up to 60% off Ladies' Intimates. For more information, visit [ https://singpromos.com/fashion-accessories/triumph-promotion-isetan-katong-27-oct-2-nov-2014-116273/ ]. 
LOCATION:449269
URL:https://singpromos.com/fashion-accessories/triumph-promotion-isetan-katong-27-oct-2-nov-2014-116273/
END:VEVENT
END:VCALENDAR