BEGIN:VCALENDAR
PRODID:-//SINGPromos.com//NONSGML v1.0//EN
VERSION:2.0
CALSCALE:GREGORIAN
METHOD:PUBLISH
X-WR-CALNAME:SINGPromos.com
X-ORIGINAL-URL:https://singpromos.com
X-WR-CALDESC:Events for SINGPromos.com
BEGIN:VEVENT
DTSTART:20141009T000000
DTEND:20141010T235900
DTSTAMP:20260422T072115
CREATED:20141009T144705
LAST-MODIFIED:20141009T144705
UID:116355@https://singpromos.com
SUMMARY:Courts 2-Days Cooling Appliances Offers 9 - 10 Oct 2014
DESCRIPTION:Two days cooling offers featuring discounts of up to 50% off. For more information, visit [ https://singpromos.com/home-appliances/courts-2-days-cooling-appliances-offers-9-10-oct-2014-116355/ ]. 
LOCATION:
URL:https://singpromos.com/home-appliances/courts-2-days-cooling-appliances-offers-9-10-oct-2014-116355/
END:VEVENT
END:VCALENDAR