BEGIN:VCALENDAR
PRODID:-//SINGPromos.com//NONSGML v1.0//EN
VERSION:2.0
CALSCALE:GREGORIAN
METHOD:PUBLISH
X-WR-CALNAME:SINGPromos.com
X-ORIGINAL-URL:https://singpromos.com
X-WR-CALDESC:Events for SINGPromos.com
BEGIN:VEVENT
DTSTART:20141009T000000
DTEND:20141019T235900
DTSTAMP:20260422T080353
CREATED:20141009T194953
LAST-MODIFIED:20141009T194953
UID:116358@https://singpromos.com
SUMMARY:Robinsons Mid Season Sale 9 Oct 2014
DESCRIPTION:Get $20 off minimum $150 nett spend. Or $10 off every $120 nett spend on cosmetics & fragrances. For more information, visit [ https://singpromos.com/department-stores/robinsons-mid-season-sale-9-oct-2014-116358/ ]. 
LOCATION:
URL:https://singpromos.com/department-stores/robinsons-mid-season-sale-9-oct-2014-116358/
END:VEVENT
END:VCALENDAR