BEGIN:VCALENDAR
PRODID:-//SINGPromos.com//NONSGML v1.0//EN
VERSION:2.0
CALSCALE:GREGORIAN
METHOD:PUBLISH
X-WR-CALNAME:SINGPromos.com
X-ORIGINAL-URL:https://singpromos.com
X-WR-CALDESC:Events for SINGPromos.com
BEGIN:VEVENT
DTSTART:20141016T000000
DTEND:20141029T235900
DTSTAMP:20260422T082144
CREATED:20141016T123155
LAST-MODIFIED:20141016T123155
UID:117294@https://singpromos.com
SUMMARY:Sea Horse 5% OFF Storewide Promo 16 - 29 Oct 2014
DESCRIPTION:Celebrates Deepavali with 5% OFF storewide. For more information, visit [ https://singpromos.com/furniture/sea-horse-5-off-storewide-promo-16-29-oct-2014-117294/ ]. 
LOCATION:
URL:https://singpromos.com/furniture/sea-horse-5-off-storewide-promo-16-29-oct-2014-117294/
END:VEVENT
END:VCALENDAR