BEGIN:VCALENDAR
PRODID:-//SINGPromos.com//NONSGML v1.0//EN
VERSION:2.0
CALSCALE:GREGORIAN
METHOD:PUBLISH
X-WR-CALNAME:SINGPromos.com
X-ORIGINAL-URL:https://singpromos.com
X-WR-CALDESC:Events for SINGPromos.com
BEGIN:VEVENT
DTSTART:20141022T000000
DTEND:20141023T235900
DTSTAMP:20260422T082151
CREATED:20141016T231924
LAST-MODIFIED:20141022T130223
UID:117478@https://singpromos.com
SUMMARY:HostGator Web Hosting Up To 65% OFF 24hr Promotion 22 - 23 Oct 2014
DESCRIPTION:Get 65% off for new hosting accounts for 24 hours only. For more information, visit [ https://singpromos.com/web-hosting/hostgator-web-hosting-up-to-65-off-24hr-promotion-22-23-oct-2014-117478/ ]. 
LOCATION:
URL:https://singpromos.com/web-hosting/hostgator-web-hosting-up-to-65-off-24hr-promotion-22-23-oct-2014-117478/
END:VEVENT
END:VCALENDAR