BEGIN:VCALENDAR
PRODID:-//SINGPromos.com//NONSGML v1.0//EN
VERSION:2.0
CALSCALE:GREGORIAN
METHOD:PUBLISH
X-WR-CALNAME:SINGPromos.com
X-ORIGINAL-URL:https://singpromos.com
X-WR-CALDESC:Events for SINGPromos.com
BEGIN:VEVENT
DTSTART:20141018T000000
DTEND:20141031T235900
DTSTAMP:20260422T054859
CREATED:20141018T142121
LAST-MODIFIED:20141018T142121
UID:117791@https://singpromos.com
SUMMARY:Hotels.com Up To 65% Off Thailand Hotels Sale 18 - 31 Oct 2014
DESCRIPTION:Save up to 65% at Hotel.Com's Thailand sale. For more information, visit [ https://singpromos.com/vacations/hotels-com-up-to-65-off-thailand-hotels-sale-18-31-oct-2014-117791/ ]. 
LOCATION:
URL:https://singpromos.com/vacations/hotels-com-up-to-65-off-thailand-hotels-sale-18-31-oct-2014-117791/
END:VEVENT
END:VCALENDAR