BEGIN:VCALENDAR
PRODID:-//SINGPromos.com//NONSGML v1.0//EN
VERSION:2.0
CALSCALE:GREGORIAN
METHOD:PUBLISH
X-WR-CALNAME:SINGPromos.com
X-ORIGINAL-URL:https://singpromos.com
X-WR-CALDESC:Events for SINGPromos.com
BEGIN:VEVENT
DTSTART:20141017T000000
DTEND:20141212T235900
DTSTAMP:20260422T073932
CREATED:20141017T005816
LAST-MODIFIED:20141214T221317
UID:117939@https://singpromos.com
SUMMARY:FoodPanda 50% OFF Coupon Code For New Customers 17 Oct 2014
DESCRIPTION:Order Food from Old Chang Kee, 4 Fingers, Popeyes, Yoshinoya and More with this deal: $15 for $30 worth from Foodpanda - that's 50% OFF the usual price! Get this deal before it ends soon. For more information, visit [ https://singpromos.com/dining-restaurants-food/foodpanda-50-off-coupon-code-for-new-customers-17-oct-2014-117939/ ]. 
LOCATION:
URL:https://singpromos.com/dining-restaurants-food/foodpanda-50-off-coupon-code-for-new-customers-17-oct-2014-117939/
END:VEVENT
END:VCALENDAR