BEGIN:VCALENDAR
PRODID:-//SINGPromos.com//NONSGML v1.0//EN
VERSION:2.0
CALSCALE:GREGORIAN
METHOD:PUBLISH
X-WR-CALNAME:SINGPromos.com
X-ORIGINAL-URL:https://singpromos.com
X-WR-CALDESC:Events for SINGPromos.com
BEGIN:VEVENT
DTSTART:20141031T000000
DTEND:20141101T235900
DTSTAMP:20260422T082321
CREATED:20141029T172513
LAST-MODIFIED:20141029T172513
UID:119093@https://singpromos.com
SUMMARY:Brandsfever Handbags & Footwear Sale @ Mandarin Orchard 31 Oct - 1 Nov 2014
DESCRIPTION:Discounts are up to 80% OFF. For more information, visit [ https://singpromos.com/happenings/brandsfever-handbags-footwear-sale-mandarin-orchard-31-oct-1-nov-2014-119093/ ]. 
LOCATION:238867
URL:https://singpromos.com/happenings/brandsfever-handbags-footwear-sale-mandarin-orchard-31-oct-1-nov-2014-119093/
END:VEVENT
END:VCALENDAR