BEGIN:VCALENDAR
PRODID:-//SINGPromos.com//NONSGML v1.0//EN
VERSION:2.0
CALSCALE:GREGORIAN
METHOD:PUBLISH
X-WR-CALNAME:SINGPromos.com
X-ORIGINAL-URL:https://singpromos.com
X-WR-CALDESC:Events for SINGPromos.com
BEGIN:VEVENT
DTSTART:20141031T000000
DTEND:20141102T235900
DTSTAMP:20260422T080725
CREATED:20141031T171200
LAST-MODIFIED:20141031T171200
UID:119293@https://singpromos.com
SUMMARY:Triumph Up To $70 Off Offers @ Metro 31 Oct 2014
DESCRIPTION:Save up to $70 Triumph lingerie at Metro. For more information, visit [ https://singpromos.com/fashion-accessories/triumph-up-to-70-off-offers-metro-31-oct-2014-119293/ ]. 
LOCATION:
URL:https://singpromos.com/fashion-accessories/triumph-up-to-70-off-offers-metro-31-oct-2014-119293/
END:VEVENT
END:VCALENDAR