BEGIN:VCALENDAR
PRODID:-//SINGPromos.com//NONSGML v1.0//EN
VERSION:2.0
CALSCALE:GREGORIAN
METHOD:PUBLISH
X-WR-CALNAME:SINGPromos.com
X-ORIGINAL-URL:https://singpromos.com
X-WR-CALDESC:Events for SINGPromos.com
BEGIN:VEVENT
DTSTART:20141101T000000
DTEND:20141103T235900
DTSTAMP:20260424T020703
CREATED:20141101T155738
LAST-MODIFIED:20141101T155851
UID:119470@https://singpromos.com
SUMMARY:Courts Big Hero Sale Offers 1 - 3 Nov 2014
DESCRIPTION:big discounts and big savings on more than 600 heroic deals. For more information, visit [ https://singpromos.com/department-stores/courts-big-hero-sale-offers-1-3-nov-2014-119470/ ]. 
LOCATION:
URL:https://singpromos.com/department-stores/courts-big-hero-sale-offers-1-3-nov-2014-119470/
END:VEVENT
END:VCALENDAR