BEGIN:VCALENDAR
PRODID:-//SINGPromos.com//NONSGML v1.0//EN
VERSION:2.0
CALSCALE:GREGORIAN
METHOD:PUBLISH
X-WR-CALNAME:SINGPromos.com
X-ORIGINAL-URL:https://singpromos.com
X-WR-CALDESC:Events for SINGPromos.com
BEGIN:VEVENT
DTSTART:20141101T000000
DTEND:20141107T235900
DTSTAMP:20260420T230413
CREATED:20141102T002604
LAST-MODIFIED:20141102T002604
UID:119579@https://singpromos.com
SUMMARY:Harvey Norman Digital Cameras, Notebooks & Appliances Offers 1 - 7 Nov 2014
DESCRIPTION:Continues their a Electrical and I.T World Expo promotion. For more information, visit [ https://singpromos.com/department-stores/harvey-norman-digital-cameras-notebooks-appliances-offers-1-7-nov-2014-119579/ ]. 
LOCATION:
URL:https://singpromos.com/department-stores/harvey-norman-digital-cameras-notebooks-appliances-offers-1-7-nov-2014-119579/
END:VEVENT
END:VCALENDAR