BEGIN:VCALENDAR
PRODID:-//SINGPromos.com//NONSGML v1.0//EN
VERSION:2.0
CALSCALE:GREGORIAN
METHOD:PUBLISH
X-WR-CALNAME:SINGPromos.com
X-ORIGINAL-URL:https://singpromos.com
X-WR-CALDESC:Events for SINGPromos.com
BEGIN:VEVENT
DTSTART:20141103T000000
DTEND:20141116T235900
DTSTAMP:20260422T211437
CREATED:20141104T051258
LAST-MODIFIED:20141104T012716
UID:119869@https://singpromos.com
SUMMARY:Better Vision 20% Off Sale 3 Nov 2014
DESCRIPTION:On frame & lenses. For more information, visit [ https://singpromos.com/optical-lens/better-vision-20-off-sale-3-nov-2014-119869/ ]. 
LOCATION:
URL:https://singpromos.com/optical-lens/better-vision-20-off-sale-3-nov-2014-119869/
END:VEVENT
END:VCALENDAR