BEGIN:VCALENDAR
PRODID:-//SINGPromos.com//NONSGML v1.0//EN
VERSION:2.0
CALSCALE:GREGORIAN
METHOD:PUBLISH
X-WR-CALNAME:SINGPromos.com
X-ORIGINAL-URL:https://singpromos.com
X-WR-CALDESC:Events for SINGPromos.com
BEGIN:VEVENT
DTSTART:20141105T000000
DTEND:20141117T235900
DTSTAMP:20260422T082128
CREATED:20141105T144241
LAST-MODIFIED:20141105T144241
UID:120038@https://singpromos.com
SUMMARY:Sea Horse Buy Mattress & Get 50% Off Pillow 5 - 17 Nov 2014
DESCRIPTION:Purchase any mattress and get a pillow at half price. For more information, visit [ https://singpromos.com/beds/sea-horse-buy-mattress-get-50-off-pillow-5-17-nov-2014-120038/ ]. 
LOCATION:
URL:https://singpromos.com/beds/sea-horse-buy-mattress-get-50-off-pillow-5-17-nov-2014-120038/
END:VEVENT
END:VCALENDAR