BEGIN:VCALENDAR
PRODID:-//SINGPromos.com//NONSGML v1.0//EN
VERSION:2.0
CALSCALE:GREGORIAN
METHOD:PUBLISH
X-WR-CALNAME:SINGPromos.com
X-ORIGINAL-URL:https://singpromos.com
X-WR-CALDESC:Events for SINGPromos.com
BEGIN:VEVENT
DTSTART:20141106T000000
DTEND:20141130T235900
DTSTAMP:20260422T082132
CREATED:20141106T002136
LAST-MODIFIED:20141106T002136
UID:120092@https://singpromos.com
SUMMARY:Namecheap Domain Name Registration Coupon Code 6 - 30 Nov 2014
DESCRIPTION:Use the same code to get 20% off shared hosting. For more information, visit [ https://singpromos.com/web-hosting/namecheap-domain-name-registration-coupon-code-6-30-nov-2014-120092/ ]. 
LOCATION:
URL:https://singpromos.com/web-hosting/namecheap-domain-name-registration-coupon-code-6-30-nov-2014-120092/
END:VEVENT
END:VCALENDAR