BEGIN:VCALENDAR
PRODID:-//SINGPromos.com//NONSGML v1.0//EN
VERSION:2.0
CALSCALE:GREGORIAN
METHOD:PUBLISH
X-WR-CALNAME:SINGPromos.com
X-ORIGINAL-URL:https://singpromos.com
X-WR-CALDESC:Events for SINGPromos.com
BEGIN:VEVENT
DTSTART:20141111T000000
DTEND:20141130T235900
DTSTAMP:20260420T051000
CREATED:20141111T181006
LAST-MODIFIED:20141111T181006
UID:120993@https://singpromos.com
SUMMARY:World of Sports Up To 50% Off Promo 11 Nov 2014
DESCRIPTION:At World of Sports, World of Outdoors, Mizuno, Columbia, Salomon and Eastpak. For more information, visit [ https://singpromos.com/sports/world-of-sports-up-to-50-off-promo-11-nov-2014-120993/ ]. 
LOCATION:
URL:https://singpromos.com/sports/world-of-sports-up-to-50-off-promo-11-nov-2014-120993/
END:VEVENT
END:VCALENDAR