BEGIN:VCALENDAR
PRODID:-//SINGPromos.com//NONSGML v1.0//EN
VERSION:2.0
CALSCALE:GREGORIAN
METHOD:PUBLISH
X-WR-CALNAME:SINGPromos.com
X-ORIGINAL-URL:https://singpromos.com
X-WR-CALDESC:Events for SINGPromos.com
BEGIN:VEVENT
DTSTART:20141113T000000
DTEND:20141113T235900
DTSTAMP:20260422T074848
CREATED:20141113T165445
LAST-MODIFIED:20141113T165445
UID:121178@https://singpromos.com
SUMMARY:Mastercard MasterPass Register & Get Free $50 Prepaid Card 13 Nov 2014
DESCRIPTION:Offer applies to the first 3,500 registrants only.. For more information, visit [ https://singpromos.com/banks-credit-cards/mastercard-masterpass-register-get-free-50-prepaid-card-13-nov-2014-121178/ ]. 
LOCATION:
URL:https://singpromos.com/banks-credit-cards/mastercard-masterpass-register-get-free-50-prepaid-card-13-nov-2014-121178/
END:VEVENT
END:VCALENDAR