BEGIN:VCALENDAR
PRODID:-//SINGPromos.com//NONSGML v1.0//EN
VERSION:2.0
CALSCALE:GREGORIAN
METHOD:PUBLISH
X-WR-CALNAME:SINGPromos.com
X-ORIGINAL-URL:https://singpromos.com
X-WR-CALDESC:Events for SINGPromos.com
BEGIN:VEVENT
DTSTART:20141121T000000
DTEND:20141123T235900
DTSTAMP:20260420T052612
CREATED:20141113T195004
LAST-MODIFIED:20141123T121742
UID:121182@https://singpromos.com
SUMMARY:Cristofori Music Warehouse Sale 21 - 23 Nov 2014
DESCRIPTION:Music Warehouse Sale from 21 November to 23 November 2014. For more information, visit [ https://singpromos.com/warehouse-sales/cristofori-music-warehouse-sale-21-23-nov-2014-121182/ ]. 
LOCATION:489980
URL:https://singpromos.com/warehouse-sales/cristofori-music-warehouse-sale-21-23-nov-2014-121182/
END:VEVENT
END:VCALENDAR