BEGIN:VCALENDAR
PRODID:-//SINGPromos.com//NONSGML v1.0//EN
VERSION:2.0
CALSCALE:GREGORIAN
METHOD:PUBLISH
X-WR-CALNAME:SINGPromos.com
X-ORIGINAL-URL:https://singpromos.com
X-WR-CALDESC:Events for SINGPromos.com
BEGIN:VEVENT
DTSTART:20141120T000000
DTEND:20141225T235900
DTSTAMP:20260420T013923
CREATED:20141121T103328
LAST-MODIFIED:20141123T152614
UID:122398@https://singpromos.com
SUMMARY:Royal Sporting House & Stadium Up To 30% Off 20 Nov - 25 Dec 2014
DESCRIPTION:Enjoy up to 20% off with a minimum purchase of $60. For more information, visit [ https://singpromos.com/sports/royal-sporting-house-stadium-up-to-30-off-20-nov-25-dec-2014-122398/ ]. 
LOCATION:
URL:https://singpromos.com/sports/royal-sporting-house-stadium-up-to-30-off-20-nov-25-dec-2014-122398/
END:VEVENT
END:VCALENDAR