BEGIN:VCALENDAR
PRODID:-//SINGPromos.com//NONSGML v1.0//EN
VERSION:2.0
CALSCALE:GREGORIAN
METHOD:PUBLISH
X-WR-CALNAME:SINGPromos.com
X-ORIGINAL-URL:https://singpromos.com
X-WR-CALDESC:Events for SINGPromos.com
BEGIN:VEVENT
DTSTART:20141121T000000
DTEND:20141123T235900
DTSTAMP:20260422T074752
CREATED:20141121T193634
LAST-MODIFIED:20141121T193634
UID:122463@https://singpromos.com
SUMMARY:Lazada $20 OFF Storewide With MasterPass 21 - 23 Nov 2014
DESCRIPTION:Capped at the first 3,000 transactions. For more information, visit [ https://singpromos.com/department-stores/lazada-20-off-storewide-with-masterpass-21-23-nov-2014-122463/ ]. 
LOCATION:
URL:https://singpromos.com/department-stores/lazada-20-off-storewide-with-masterpass-21-23-nov-2014-122463/
END:VEVENT
END:VCALENDAR