BEGIN:VCALENDAR
PRODID:-//SINGPromos.com//NONSGML v1.0//EN
VERSION:2.0
CALSCALE:GREGORIAN
METHOD:PUBLISH
X-WR-CALNAME:SINGPromos.com
X-ORIGINAL-URL:https://singpromos.com
X-WR-CALDESC:Events for SINGPromos.com
BEGIN:VEVENT
DTSTART:20141128T000000
DTEND:20141202T235900
DTSTAMP:20260422T082314
CREATED:20141122T070921
LAST-MODIFIED:20141202T131152
UID:122576@https://singpromos.com
SUMMARY:HostGator Web Hosting 55% - 75% OFF Black Friday Promo 28 Nov - 2 Dec 2014
DESCRIPTION:Get 55% off all new hosting packages for the entire four days. There will also be ten one hour fire sales, featuring 75% off!. For more information, visit [ https://singpromos.com/web-hosting/hostgator-web-hosting-55-75-off-black-friday-promo-29-nov-2-dec-2014-122576/ ]. 
LOCATION:
URL:https://singpromos.com/web-hosting/hostgator-web-hosting-55-75-off-black-friday-promo-29-nov-2-dec-2014-122576/
END:VEVENT
END:VCALENDAR