BEGIN:VCALENDAR
PRODID:-//SINGPromos.com//NONSGML v1.0//EN
VERSION:2.0
CALSCALE:GREGORIAN
METHOD:PUBLISH
X-WR-CALNAME:SINGPromos.com
X-ORIGINAL-URL:https://singpromos.com
X-WR-CALDESC:Events for SINGPromos.com
BEGIN:VEVENT
DTSTART:20110809T000000
DTEND:20110814T235900
DTSTAMP:20260420T192516
CREATED:20110809T005144
LAST-MODIFIED:20110809T005144
UID:12310@https://singpromos.com
SUMMARY:Famous Amos Free 45gm With Every 300gm Cookies 9 - 14 Aug 2011
DESCRIPTION:Famous Amos celebrates Singapore's 46th birthday with a special offer. Get 46gm worth of cookies free with every 300gm cookies purchase till 14 August 2011. For more information, visit [ https://singpromos.com/dining-restaurants-food/famous-amos-free-45gm-with-every-300gm-cookies-9-14-aug-2011-12310/ ]. 
LOCATION:
URL:https://singpromos.com/dining-restaurants-food/famous-amos-free-45gm-with-every-300gm-cookies-9-14-aug-2011-12310/
END:VEVENT
END:VCALENDAR