BEGIN:VCALENDAR
PRODID:-//SINGPromos.com//NONSGML v1.0//EN
VERSION:2.0
CALSCALE:GREGORIAN
METHOD:PUBLISH
X-WR-CALNAME:SINGPromos.com
X-ORIGINAL-URL:https://singpromos.com
X-WR-CALDESC:Events for SINGPromos.com
BEGIN:VEVENT
DTSTART:20141114T000000
DTEND:20141231T235900
DTSTAMP:20260422T082303
CREATED:20141125T020846
LAST-MODIFIED:20141125T204431
UID:123216@https://singpromos.com
SUMMARY:Junction 8 & Sembawang Shopping Centre Christmas Promotions & Activities 14 Nov - 31 Dec 2014
DESCRIPTION:Tales of Christmas wonder at Junction 8 and Sembawang Shopping Centre. For more information, visit [ https://singpromos.com/shopping-malls/junction-8-ssc-christmas-promotions-activities-14-nov-31-dec-2014-123216/ ]. 
LOCATION:
URL:https://singpromos.com/shopping-malls/junction-8-ssc-christmas-promotions-activities-14-nov-31-dec-2014-123216/
END:VEVENT
END:VCALENDAR