BEGIN:VCALENDAR
PRODID:-//SINGPromos.com//NONSGML v1.0//EN
VERSION:2.0
CALSCALE:GREGORIAN
METHOD:PUBLISH
X-WR-CALNAME:SINGPromos.com
X-ORIGINAL-URL:https://singpromos.com
X-WR-CALDESC:Events for SINGPromos.com
BEGIN:VEVENT
DTSTART:20141128T000000
DTEND:20141130T235900
DTSTAMP:20260422T074427
CREATED:20141128T130312
LAST-MODIFIED:20141128T130312
UID:123760@https://singpromos.com
SUMMARY:Lazada $20 OFF Storewide With MasterPass Black Friday Promo 28 - 30 Nov 2014
DESCRIPTION:Valid for all categories, capped at the first 3,000 transactions. For more information, visit [ https://singpromos.com/department-stores/lazada-20-off-storewide-with-masterpass-black-friday-promo-28-30-nov-2014-123760/ ]. 
LOCATION:
URL:https://singpromos.com/department-stores/lazada-20-off-storewide-with-masterpass-black-friday-promo-28-30-nov-2014-123760/
END:VEVENT
END:VCALENDAR