BEGIN:VCALENDAR
PRODID:-//SINGPromos.com//NONSGML v1.0//EN
VERSION:2.0
CALSCALE:GREGORIAN
METHOD:PUBLISH
X-WR-CALNAME:SINGPromos.com
X-ORIGINAL-URL:https://singpromos.com
X-WR-CALDESC:Events for SINGPromos.com
BEGIN:VEVENT
DTSTART:20141127T000000
DTEND:20150131T235900
DTSTAMP:20260422T055633
CREATED:20141129T071342
LAST-MODIFIED:20141129T023326
UID:123936@https://singpromos.com
SUMMARY:Nine West Up To 30% Off End Of Season Sale 27 Nov 2014 - 31 Jan 2015
DESCRIPTION:Enjoy up to 30% off. For more information, visit [ https://singpromos.com/fashion-accessories/nine-west-up-to-30-off-end-of-season-sale-27-nov-2014-31-jan-2015-123936/ ]. 
LOCATION:
URL:https://singpromos.com/fashion-accessories/nine-west-up-to-30-off-end-of-season-sale-27-nov-2014-31-jan-2015-123936/
END:VEVENT
END:VCALENDAR