BEGIN:VCALENDAR
PRODID:-//SINGPromos.com//NONSGML v1.0//EN
VERSION:2.0
CALSCALE:GREGORIAN
METHOD:PUBLISH
X-WR-CALNAME:SINGPromos.com
X-ORIGINAL-URL:https://singpromos.com
X-WR-CALDESC:Events for SINGPromos.com
BEGIN:VEVENT
DTSTART:20141129T000000
DTEND:20141201T235900
DTSTAMP:20260420T061924
CREATED:20141129T192148
LAST-MODIFIED:20141201T151409
UID:124043@https://singpromos.com
SUMMARY:Courts Year End Sale Offers 29 Nov - 1 Dec 2014
DESCRIPTION:Check out Courts Year End Sale offers valid from 29 November to 1 December 2014. For more information, visit [ https://singpromos.com/department-stores/courts-year-end-sale-offers-29-nov-1-dec-2014-124043/ ]. 
LOCATION:
URL:https://singpromos.com/department-stores/courts-year-end-sale-offers-29-nov-1-dec-2014-124043/
END:VEVENT
END:VCALENDAR