BEGIN:VCALENDAR
PRODID:-//SINGPromos.com//NONSGML v1.0//EN
VERSION:2.0
CALSCALE:GREGORIAN
METHOD:PUBLISH
X-WR-CALNAME:SINGPromos.com
X-ORIGINAL-URL:https://singpromos.com
X-WR-CALDESC:Events for SINGPromos.com
BEGIN:VEVENT
DTSTART:20141205T000000
DTEND:20141207T235900
DTSTAMP:20260420T021011
CREATED:20141202T082220
LAST-MODIFIED:20141202T020852
UID:124413@https://singpromos.com
SUMMARY:Baby Baby 2014 @ Singapore Expo 5 - 7 Dec 2014
DESCRIPTION:Find everything you need to get ready for your new arrival and guide you through the early weeks and years of parenting.. For more information, visit [ https://singpromos.com/happenings/baby-baby-2014-singapore-expo-5-7-dec-2014-124413/ ]. 
LOCATION:486150
URL:https://singpromos.com/happenings/baby-baby-2014-singapore-expo-5-7-dec-2014-124413/
END:VEVENT
END:VCALENDAR