BEGIN:VCALENDAR
PRODID:-//SINGPromos.com//NONSGML v1.0//EN
VERSION:2.0
CALSCALE:GREGORIAN
METHOD:PUBLISH
X-WR-CALNAME:SINGPromos.com
X-ORIGINAL-URL:https://singpromos.com
X-WR-CALDESC:Events for SINGPromos.com
BEGIN:VEVENT
DTSTART:20141201T000000
DTEND:20141225T235900
DTSTAMP:20260422T082312
CREATED:20141202T180112
LAST-MODIFIED:20141202T180112
UID:124568@https://singpromos.com
SUMMARY:Isetan Orchard Artbox Christmas Gift Ideas Event 1 - 25 Dec 2014
DESCRIPTION:Get Artbox Christmas Gift Ideas in Gifts & Lifestyle. For more information, visit [ https://singpromos.com/happenings/isetan-orchard-artbox-christmas-gift-ideas-event-1-25-dec-2014-124568/ ]. 
LOCATION:238877
URL:https://singpromos.com/happenings/isetan-orchard-artbox-christmas-gift-ideas-event-1-25-dec-2014-124568/
END:VEVENT
END:VCALENDAR