BEGIN:VCALENDAR
PRODID:-//SINGPromos.com//NONSGML v1.0//EN
VERSION:2.0
CALSCALE:GREGORIAN
METHOD:PUBLISH
X-WR-CALNAME:SINGPromos.com
X-ORIGINAL-URL:https://singpromos.com
X-WR-CALDESC:Events for SINGPromos.com
BEGIN:VEVENT
DTSTART:20141201T000000
DTEND:20150125T235900
DTSTAMP:20260422T055528
CREATED:20141202T175919
LAST-MODIFIED:20141202T175919
UID:124571@https://singpromos.com
SUMMARY:Isetan Up To 70% Off Luggage Sale @ Isetan Orchard 1 Dec 2014
DESCRIPTION:Get up to 70% off Elle, Echolac, Paviotti and Birkley. For more information, visit [ https://singpromos.com/happenings/isetan-up-to-70-off-luggage-sale-isetan-orchard-1-dec-2014-124571/ ]. 
LOCATION:238877
URL:https://singpromos.com/happenings/isetan-up-to-70-off-luggage-sale-isetan-orchard-1-dec-2014-124571/
END:VEVENT
END:VCALENDAR