BEGIN:VCALENDAR
PRODID:-//SINGPromos.com//NONSGML v1.0//EN
VERSION:2.0
CALSCALE:GREGORIAN
METHOD:PUBLISH
X-WR-CALNAME:SINGPromos.com
X-ORIGINAL-URL:https://singpromos.com
X-WR-CALDESC:Events for SINGPromos.com
BEGIN:VEVENT
DTSTART:20141202T000000
DTEND:20141202T235900
DTSTAMP:20260422T074626
CREATED:20141202T024440
LAST-MODIFIED:20141202T024440
UID:124605@https://singpromos.com
SUMMARY:Mastercard MasterPass Register & Get Free $50 Lazada Voucher 2 Dec 2014
DESCRIPTION:Only for MasterCard cardholders. Offer applies to the first 1000 registrants only.. For more information, visit [ https://singpromos.com/banks-credit-cards/mastercard-masterpass-register-get-free-50-lazada-voucher-2-dec-2014-124605/ ]. 
LOCATION:
URL:https://singpromos.com/banks-credit-cards/mastercard-masterpass-register-get-free-50-lazada-voucher-2-dec-2014-124605/
END:VEVENT
END:VCALENDAR