BEGIN:VCALENDAR
PRODID:-//SINGPromos.com//NONSGML v1.0//EN
VERSION:2.0
CALSCALE:GREGORIAN
METHOD:PUBLISH
X-WR-CALNAME:SINGPromos.com
X-ORIGINAL-URL:https://singpromos.com
X-WR-CALDESC:Events for SINGPromos.com
BEGIN:VEVENT
DTSTART:20141204T000000
DTEND:20141207T235900
DTSTAMP:20260420T232524
CREATED:20141203T182756
LAST-MODIFIED:20141203T182756
UID:124878@https://singpromos.com
SUMMARY:Royal Sporting House Warehouse SALE 4 - 7 Dec 2014
DESCRIPTION:Brands include Asics, Wilson, Puma, Reebok, adidas and more. For more information, visit [ https://singpromos.com/warehouse-sales/royal-sporting-house-warehouse-sale-4-7-dec-2014-124878/ ]. 
LOCATION:190 Macpherson Rd, 348548
URL:https://singpromos.com/warehouse-sales/royal-sporting-house-warehouse-sale-4-7-dec-2014-124878/
END:VEVENT
END:VCALENDAR