BEGIN:VCALENDAR
PRODID:-//SINGPromos.com//NONSGML v1.0//EN
VERSION:2.0
CALSCALE:GREGORIAN
METHOD:PUBLISH
X-WR-CALNAME:SINGPromos.com
X-ORIGINAL-URL:https://singpromos.com
X-WR-CALDESC:Events for SINGPromos.com
BEGIN:VEVENT
DTSTART:20141204T000000
DTEND:20141231T235900
DTSTAMP:20260422T073959
CREATED:20141204T220858
LAST-MODIFIED:20141204T220858
UID:125057@https://singpromos.com
SUMMARY:S-26 Milk Powders Buy 5 Get 1 Free @ Watsons 4 - 31 Dec 2014
DESCRIPTION:Promotion only applicable for selected tins. For more information, visit [ https://singpromos.com/kids/s-26-milk-powders-buy-5-get-1-free-watsons-4-31-dec-2014-125057/ ]. 
LOCATION:
URL:https://singpromos.com/kids/s-26-milk-powders-buy-5-get-1-free-watsons-4-31-dec-2014-125057/
END:VEVENT
END:VCALENDAR